BEGIN:VCALENDAR
METHOD:PUBLISH
VERSION:2.0
CALSCALE:GREGORIAN
PRODID:-//NONSGML WPForms//NONSGML Sugar Calendar Feeds v3.11.0//EN
X-WR-CALNAME:Stew Hanson Thanksgiving giveaway
X-WR-CALDESC:Sober Soldierz
X-WR-TIMEZONE:America/Chicago
BEGIN:VTIMEZONE
TZID:America/Chicago
BEGIN:STANDARD
TZOFFSETFROM:-0500
TZOFFSETTO:-0600
DTSTART:20251102T070000
TZNAME:CST
END:STANDARD
END:VTIMEZONE
BEGIN:VTIMEZONE
TZID:America/Chicago
BEGIN:STANDARD
TZOFFSETFROM:-0500
TZOFFSETTO:-0600
DTSTART:20251102T070000
TZNAME:CST
END:STANDARD
END:VTIMEZONE
BEGIN:VEVENT
SUMMARY:Stew Hanson Thanksgiving giveaway
DESCRIPTION:Stew Hanson Thanksgiving giveaway bags!
URL;VALUE=URI:https://www.sobersoldierz.com/sobersoldierz/?sc_event=stew
 -hanson-thanksgiving-giveaway
UID:urn:uuid:f95ffc85-6dc2-41d5-bcfd-514c3266f848
STATUS:CONFIRMED
ORGANIZER:
DTSTAMP:20260423T124145Z
DTSTART;TZID=America/Chicago:20251123T083000
DTEND;TZID=America/Chicago:20251123T103000
LOCATION:12103 Hickman Rd
END:VEVENT
END:VCALENDAR