BEGIN:VCALENDAR
METHOD:PUBLISH
VERSION:2.0
CALSCALE:GREGORIAN
PRODID:-//NONSGML WPForms//NONSGML Sugar Calendar Feeds v3.11.0//EN
X-WR-CALNAME:Sober Soldierz Thanksgiving Day Breaking Bread
X-WR-CALDESC:Sober Soldierz
X-WR-TIMEZONE:America/Chicago
BEGIN:VTIMEZONE
TZID:America/Chicago
BEGIN:STANDARD
TZOFFSETFROM:-0500
TZOFFSETTO:-0600
DTSTART:20251102T070000
TZNAME:CST
END:STANDARD
END:VTIMEZONE
BEGIN:VTIMEZONE
TZID:America/Chicago
BEGIN:STANDARD
TZOFFSETFROM:-0500
TZOFFSETTO:-0600
DTSTART:20251102T070000
TZNAME:CST
END:STANDARD
END:VTIMEZONE
BEGIN:VEVENT
SUMMARY:Sober Soldierz Thanksgiving Day Breaking Bread
DESCRIPTION:Sober Soldierz recovery family Breaking Bread Thanksgiving D
 ay Dinner! Everyone deserves the love of God\, family\, turkey\, ham\, p
 ie and Dallas Cowboy on Thanksgiving Day! The gym door will open at 3 pm
  at the First Church of the Open Bible to hangout\, snack\, watch footba
 ll\, fellowship. Main meal at 7pm come and go\, stop in say hi\, drop of
 f leftovers to bless our meal and help us serve the community. All are w
 elcome those in recovery\, those who have not found recovery\, supporter
 s of recovery. If you know God\, or if you have not experienced him yet\
 , come allow us to show you the love of God that day.
URL;VALUE=URI:https://www.sobersoldierz.com/sobersoldierz/?sc_event=sobe
 r-soldierz-thanksgiving-day-breaking-bread
UID:urn:uuid:093ec3d0-b73a-4da5-9248-9798528a78f9
STATUS:CONFIRMED
ORGANIZER:
DTSTAMP:20260423T081310Z
DTSTART;TZID=America/Chicago:20251127T150000
DTEND;TZID=America/Chicago:20251127T200000
LOCATION:2200 Beaver Avenue
END:VEVENT
END:VCALENDAR