BEGIN:VCALENDAR
METHOD:PUBLISH
VERSION:2.0
CALSCALE:GREGORIAN
PRODID:-//NONSGML WPForms//NONSGML Sugar Calendar Feeds v3.11.0//EN
X-WR-CALNAME:Sober Soldierz Super Bowl
X-WR-CALDESC:Sober Soldierz
X-WR-TIMEZONE:America/Chicago
BEGIN:VTIMEZONE
TZID:America/Chicago
BEGIN:STANDARD
TZOFFSETFROM:-0500
TZOFFSETTO:-0600
DTSTART:20251102T070000
TZNAME:CST
END:STANDARD
END:VTIMEZONE
BEGIN:VTIMEZONE
TZID:America/Chicago
BEGIN:STANDARD
TZOFFSETFROM:-0500
TZOFFSETTO:-0600
DTSTART:20251102T070000
TZNAME:CST
END:STANDARD
END:VTIMEZONE
BEGIN:VEVENT
SUMMARY:Sober Soldierz Super Bowl
DESCRIPTION:Come enjoy the Super Bowl clean and sober and with family!
URL;VALUE=URI:https://www.sobersoldierz.com/sobersoldierz/?sc_event=sobe
 r-soldierz-super-bowl
UID:urn:uuid:6d9b79a4-5a27-44fb-96a9-5530fffc7cc0
STATUS:CONFIRMED
ORGANIZER:
DTSTAMP:20260423T081031Z
DTSTART;TZID=America/Chicago:20260203T150000
DTEND;TZID=America/Chicago:20260203T190000
LOCATION:2200 Beaver Avenue
END:VEVENT
END:VCALENDAR