BEGIN:VCALENDAR
METHOD:PUBLISH
VERSION:2.0
CALSCALE:GREGORIAN
PRODID:-//NONSGML WPForms//NONSGML Sugar Calendar Feeds v3.11.0//EN
X-WR-CALNAME:Sober Soldierz Breaking Bread Newton
X-WR-CALDESC:Sober Soldierz
X-WR-TIMEZONE:America/Chicago
BEGIN:VTIMEZONE
TZID:America/Chicago
BEGIN:STANDARD
TZOFFSETFROM:-0500
TZOFFSETTO:-0600
DTSTART:20251102T070000
TZNAME:CST
END:STANDARD
END:VTIMEZONE
BEGIN:VTIMEZONE
TZID:America/Chicago
BEGIN:STANDARD
TZOFFSETFROM:-0500
TZOFFSETTO:-0600
DTSTART:20251102T070000
TZNAME:CST
END:STANDARD
END:VTIMEZONE
BEGIN:VEVENT
SUMMARY:Sober Soldierz Breaking Bread Newton
DESCRIPTION:Sponsored by: Giovanni's Pizza 🍕\nCome have fun\, pizza\,
  and fellowship with us in Jasper County Church of Christ in newton. Wil
 l be followed by the Monday night Newton Sober Soldierz meeting at 7.
URL;VALUE=URI:https://www.sobersoldierz.com/sobersoldierz/?sc_event=sobe
 r-soldierz-breaking-bread-newton
UID:cgrjeeb6c8sjab9kc5i3ib9k64rj2b9occrm8b9g65i6acj269hj8p1m60@google.co
 m
STATUS:CONFIRMED
ORGANIZER:
DTSTAMP:20260423T102001Z
DTSTART;TZID=America/Chicago:20251103T180000
DTEND;TZID=America/Chicago:20251103T190000
LOCATION:1813 1st Street North
END:VEVENT
END:VCALENDAR