BEGIN:VCALENDAR
METHOD:PUBLISH
VERSION:2.0
CALSCALE:GREGORIAN
PRODID:-//NONSGML WPForms//NONSGML Sugar Calendar Feeds v3.11.0//EN
X-WR-CALNAME:New Year's Eve Party
X-WR-CALDESC:Sober Soldierz
X-WR-TIMEZONE:America/Chicago
BEGIN:VTIMEZONE
TZID:America/Chicago
BEGIN:STANDARD
TZOFFSETFROM:-0500
TZOFFSETTO:-0600
DTSTART:20251102T070000
TZNAME:CST
END:STANDARD
END:VTIMEZONE
BEGIN:VTIMEZONE
TZID:America/Chicago
BEGIN:STANDARD
TZOFFSETFROM:-0500
TZOFFSETTO:-0600
DTSTART:20251102T070000
TZNAME:CST
END:STANDARD
END:VTIMEZONE
BEGIN:VEVENT
SUMMARY:New Year's Eve Party
DESCRIPTION:Come Ring in the New Year's with Sober Soldierz! Food\, game
 s\, music\, kids' play area\, and balloon drop !! Doors open at 7pm at t
 he First Church of the Open Bible
URL;VALUE=URI:https://www.sobersoldierz.com/sobersoldierz/?sc_event=new-
 years-eve-party
UID:urn:uuid:08f64dc4-68fd-4ba2-84c3-57f3cf30fa45
STATUS:CONFIRMED
ORGANIZER:
DTSTAMP:20260423T081055Z
DTSTART;TZID=America/Chicago:20251231T190000
DTEND;TZID=America/Chicago:20251231T230000
LOCATION:2200 Beaver Avenue
END:VEVENT
END:VCALENDAR