BEGIN:VCALENDAR
METHOD:PUBLISH
VERSION:2.0
CALSCALE:GREGORIAN
PRODID:-//NONSGML WPForms//NONSGML Sugar Calendar Feeds v3.11.0//EN
X-WR-CALNAME:Mother's Day
X-WR-CALDESC:Sober Soldierz
X-WR-TIMEZONE:America/Chicago
BEGIN:VTIMEZONE
TZID:America/Chicago
BEGIN:DAYLIGHT
TZOFFSETFROM:-0600
TZOFFSETTO:-0500
DTSTART:20260308T080000
TZNAME:CDT
END:DAYLIGHT
END:VTIMEZONE
BEGIN:VTIMEZONE
TZID:America/Chicago
BEGIN:DAYLIGHT
TZOFFSETFROM:-0600
TZOFFSETTO:-0500
DTSTART:20260308T080000
TZNAME:CDT
END:DAYLIGHT
END:VTIMEZONE
BEGIN:VEVENT
SUMMARY:Mother's Day
DESCRIPTION:Join our special 10 am service as we honor all our mothers. 
 We will have a special reception in the lobby following the service.
URL;VALUE=URI:https://www.sobersoldierz.com/sobersoldierz/?sc_event=moth
 ers-day
UID:urn:uuid:d1568813-4272-4c13-b626-4383a5dc5fda
STATUS:CONFIRMED
ORGANIZER:
DTSTAMP:20260419T141339Z
DTSTART;TZID=America/Chicago:20260510T100000
DTEND;TZID=America/Chicago:20260510T113000
LOCATION:2200 Beaver Avenue
END:VEVENT
END:VCALENDAR