BEGIN:VCALENDAR
METHOD:PUBLISH
VERSION:2.0
CALSCALE:GREGORIAN
PRODID:-//NONSGML WPForms//NONSGML Sugar Calendar Feeds v3.11.0//EN
X-WR-CALNAME:Men's Steak and Game night
X-WR-CALDESC:Sober Soldierz
X-WR-TIMEZONE:America/Chicago
BEGIN:VTIMEZONE
TZID:America/Chicago
BEGIN:STANDARD
TZOFFSETFROM:-0500
TZOFFSETTO:-0600
DTSTART:20251102T070000
TZNAME:CST
END:STANDARD
END:VTIMEZONE
BEGIN:VTIMEZONE
TZID:America/Chicago
BEGIN:STANDARD
TZOFFSETFROM:-0500
TZOFFSETTO:-0600
DTSTART:20251102T070000
TZNAME:CST
END:STANDARD
END:VTIMEZONE
BEGIN:VEVENT
SUMMARY:Men's Steak and Game night
DESCRIPTION:Men's steak night at First Church of the Open Bible. 10 doll
 ars covers the cost of the meal
URL;VALUE=URI:https://www.sobersoldierz.com/sobersoldierz/?sc_event=mens
 -steak-and-game-night
UID:urn:uuid:a9195be5-45f4-45e2-bc23-2589a6e99c54
STATUS:CONFIRMED
ORGANIZER:
DTSTAMP:20260423T135713Z
DTSTART;TZID=America/Chicago:20251114T180000
DTEND;TZID=America/Chicago:20251114T200000
LOCATION:2200 Beaver Avenue
END:VEVENT
END:VCALENDAR