BEGIN:VCALENDAR
METHOD:PUBLISH
VERSION:2.0
CALSCALE:GREGORIAN
PRODID:-//NONSGML WPForms//NONSGML Sugar Calendar Feeds v3.11.0//EN
X-WR-CALNAME:Living Nativity
X-WR-CALDESC:Sober Soldierz
X-WR-TIMEZONE:America/Chicago
BEGIN:VTIMEZONE
TZID:America/Chicago
BEGIN:STANDARD
TZOFFSETFROM:-0500
TZOFFSETTO:-0600
DTSTART:20251102T070000
TZNAME:CST
END:STANDARD
END:VTIMEZONE
BEGIN:VTIMEZONE
TZID:America/Chicago
BEGIN:STANDARD
TZOFFSETFROM:-0500
TZOFFSETTO:-0600
DTSTART:20251102T070000
TZNAME:CST
END:STANDARD
END:VTIMEZONE
BEGIN:VEVENT
SUMMARY:Living Nativity
DESCRIPTION:Come view the Living Nativity at the First Church of the Ope
 n Bible
URL;VALUE=URI:https://www.sobersoldierz.com/sobersoldierz/?sc_event=livi
 ng-nativity-2
UID:urn:uuid:c4b722a9-a3b9-4af8-89ee-882c443a8a0a
STATUS:CONFIRMED
ORGANIZER:
DTSTAMP:20260423T102417Z
DTSTART;TZID=America/Chicago:20251206T180000
DTEND;TZID=America/Chicago:20251206T200000
LOCATION:2200 Beaver Avenue
END:VEVENT
END:VCALENDAR