BEGIN:VCALENDAR
METHOD:PUBLISH
VERSION:2.0
CALSCALE:GREGORIAN
PRODID:-//NONSGML WPForms//NONSGML Sugar Calendar Feeds v3.11.0//EN
X-WR-CALNAME:Living Nativity
X-WR-CALDESC:Sober Soldierz
X-WR-TIMEZONE:America/Chicago
BEGIN:VTIMEZONE
TZID:America/Chicago
BEGIN:STANDARD
TZOFFSETFROM:-0500
TZOFFSETTO:-0600
DTSTART:20251102T070000
TZNAME:CST
END:STANDARD
END:VTIMEZONE
BEGIN:VTIMEZONE
TZID:America/Chicago
BEGIN:STANDARD
TZOFFSETFROM:-0500
TZOFFSETTO:-0600
DTSTART:20251102T070000
TZNAME:CST
END:STANDARD
END:VTIMEZONE
BEGIN:VEVENT
SUMMARY:Living Nativity
DESCRIPTION:Come view the living nativity at the First Church of the Ope
 n Bible
URL;VALUE=URI:https://www.sobersoldierz.com/sobersoldierz/?sc_event=livi
 ng-nativity
UID:urn:uuid:4d1b4adc-b597-4ca5-8803-9a1963596db8
STATUS:CONFIRMED
ORGANIZER:
DTSTAMP:20260423T113918Z
DTSTART;TZID=America/Chicago:20251205T180000
DTEND;TZID=America/Chicago:20251205T200000
LOCATION:2200 Beaver Avenue
END:VEVENT
END:VCALENDAR