BEGIN:VCALENDAR
METHOD:PUBLISH
VERSION:2.0
CALSCALE:GREGORIAN
PRODID:-//NONSGML WPForms//NONSGML Sugar Calendar Feeds v3.11.0//EN
X-WR-CALNAME:Halloween Bonfire
X-WR-CALDESC:Sober Soldierz
X-WR-TIMEZONE:America/Chicago
BEGIN:VTIMEZONE
TZID:America/Chicago
BEGIN:DAYLIGHT
TZOFFSETFROM:-0500
TZOFFSETTO:-0500
DTSTART:20250502T060000
TZNAME:CDT
END:DAYLIGHT
END:VTIMEZONE
BEGIN:VTIMEZONE
TZID:America/Chicago
BEGIN:DAYLIGHT
TZOFFSETFROM:-0500
TZOFFSETTO:-0500
DTSTART:20250502T060000
TZNAME:CDT
END:DAYLIGHT
END:VTIMEZONE
BEGIN:VEVENT
SUMMARY:Halloween Bonfire
DESCRIPTION:Come join us during our Halloween bonfire\, there will be fo
 od\, snacks and movie on the lawn. We'll be showing Hocus Pocus!
URL;VALUE=URI:https://www.sobersoldierz.com/sobersoldierz/?sc_event=hall
 oween-bonfire
UID:urn:uuid:fd29e96e-e550-4d9b-8e46-5cd5ebd2c433
STATUS:CONFIRMED
ORGANIZER:
DTSTAMP:20260423T091405Z
DTSTART;TZID=America/Chicago:20251031T180000
DTEND;TZID=America/Chicago:20251031T210000
END:VEVENT
END:VCALENDAR