BEGIN:VCALENDAR
METHOD:PUBLISH
VERSION:2.0
CALSCALE:GREGORIAN
PRODID:-//NONSGML WPForms//NONSGML Sugar Calendar Feeds v3.11.0//EN
X-WR-CALNAME:Easter Egg Packing Party
X-WR-CALDESC:Sober Soldierz
X-WR-TIMEZONE:America/Chicago
BEGIN:VTIMEZONE
TZID:America/Chicago
BEGIN:STANDARD
TZOFFSETFROM:-0500
TZOFFSETTO:-0600
DTSTART:20251102T070000
TZNAME:CST
END:STANDARD
BEGIN:DAYLIGHT
TZOFFSETFROM:-0600
TZOFFSETTO:-0500
DTSTART:20260308T080000
TZNAME:CDT
END:DAYLIGHT
END:VTIMEZONE
BEGIN:VTIMEZONE
TZID:America/Chicago
BEGIN:STANDARD
TZOFFSETFROM:-0500
TZOFFSETTO:-0600
DTSTART:20251102T070000
TZNAME:CST
END:STANDARD
BEGIN:DAYLIGHT
TZOFFSETFROM:-0600
TZOFFSETTO:-0500
DTSTART:20260308T080000
TZNAME:CDT
END:DAYLIGHT
END:VTIMEZONE
BEGIN:VEVENT
SUMMARY:Easter Egg Packing Party
DESCRIPTION:Join the egg packing party to help up prepare for this Easte
 r’s outreach! All regular classes are cancelled.\n\nDonate wrapped can
 dy for our upcoming children’s Easter Egg Hunt on April 5.\n\nCandy do
 nations may be dropped off at the Welcome Center by March 25.
URL;VALUE=URI:https://www.sobersoldierz.com/sobersoldierz/?sc_event=east
 er-egg-packing-party
UID:urn:uuid:24db2e1b-43c9-4263-8218-dda339279dbd
STATUS:CONFIRMED
ORGANIZER:
DTSTAMP:20260419T153044Z
DTSTART;TZID=America/Chicago:20260325T183000
DTEND;TZID=America/Chicago:20260325T193000
LOCATION:2200 Beaver Avenue
END:VEVENT
END:VCALENDAR