BEGIN:VCALENDAR
METHOD:PUBLISH
VERSION:2.0
CALSCALE:GREGORIAN
PRODID:-//NONSGML WPForms//NONSGML Sugar Calendar Feeds v3.11.0//EN
X-WR-CALNAME:No One Alone Christmas
X-WR-CALDESC:Sober Soldierz
X-WR-TIMEZONE:America/Chicago
BEGIN:VTIMEZONE
TZID:America/Chicago
BEGIN:STANDARD
TZOFFSETFROM:-0500
TZOFFSETTO:-0600
DTSTART:20251102T070000
TZNAME:CST
END:STANDARD
END:VTIMEZONE
BEGIN:VTIMEZONE
TZID:America/Chicago
BEGIN:STANDARD
TZOFFSETFROM:-0500
TZOFFSETTO:-0600
DTSTART:20251102T070000
TZNAME:CST
END:STANDARD
END:VTIMEZONE
BEGIN:VEVENT
SUMMARY:No One Alone Christmas
DESCRIPTION:Come celebrate Christmas Eve and Day with us at the Comfort 
 Inn &amp\; Suites in West Des Moines! No one alone for Christmas! Rooms 
 for $70.00\, two nights available! \nSign up below at this link: Sober S
 oldierz Christmas Take Over
URL;VALUE=URI:https://www.sobersoldierz.com/sobersoldierz/?sc_event=chri
 stmas-takeover
UID:urn:uuid:a2f87b89-a6c1-42ab-b38e-df1128c448ac
STATUS:CONFIRMED
ORGANIZER:
DTSTAMP:20260423T091151Z
DTSTART;TZID=America/Chicago:20251224T163000
DTEND;TZID=America/Chicago:20251226T063000
LOCATION:1625 Jordan Creek Parkway
END:VEVENT
END:VCALENDAR