BEGIN:VCALENDAR
METHOD:PUBLISH
VERSION:2.0
CALSCALE:GREGORIAN
PRODID:-//NONSGML WPForms//NONSGML Sugar Calendar Feeds v3.11.0//EN
X-WR-CALNAME:Last Bonfire for the Season
X-WR-CALDESC:Sober Soldierz
X-WR-TIMEZONE:America/Chicago
BEGIN:VTIMEZONE
TZID:America/Chicago
BEGIN:STANDARD
TZOFFSETFROM:-0500
TZOFFSETTO:-0600
DTSTART:20251102T070000
TZNAME:CST
END:STANDARD
END:VTIMEZONE
BEGIN:VTIMEZONE
TZID:America/Chicago
BEGIN:STANDARD
TZOFFSETFROM:-0500
TZOFFSETTO:-0600
DTSTART:20251102T070000
TZNAME:CST
END:STANDARD
END:VTIMEZONE
BEGIN:VEVENT
SUMMARY:Last Bonfire for the Season
DESCRIPTION:Come join us in our last bonfire for the season! Show up at 
 6 and eat at 7. Hot dogs and chips\, bring a side and enjoy some fellows
 hip!
URL;VALUE=URI:https://www.sobersoldierz.com/sobersoldierz/?sc_event=bonf
 ire
UID:urn:uuid:a738f427-2848-4a8a-b60a-8c73340f7a67
STATUS:CONFIRMED
ORGANIZER:
DTSTAMP:20260423T123537Z
DTSTART;TZID=America/Chicago:20251107T060000
DTEND;TZID=America/Chicago:20251107T090000
LOCATION:6638 Holcomb Circle
END:VEVENT
END:VCALENDAR