BEGIN:VCALENDAR
METHOD:PUBLISH
VERSION:2.0
CALSCALE:GREGORIAN
PRODID:-//NONSGML WPForms//NONSGML Sugar Calendar Feeds v3.11.0//EN
X-WR-CALNAME:Bingo Night
X-WR-CALDESC:Sober Soldierz
X-WR-TIMEZONE:America/Chicago
BEGIN:VTIMEZONE
TZID:America/Chicago
BEGIN:DAYLIGHT
TZOFFSETFROM:-0600
TZOFFSETTO:-0500
DTSTART:20260308T080000
TZNAME:CDT
END:DAYLIGHT
END:VTIMEZONE
BEGIN:VTIMEZONE
TZID:America/Chicago
BEGIN:DAYLIGHT
TZOFFSETFROM:-0600
TZOFFSETTO:-0500
DTSTART:20260308T080000
TZNAME:CDT
END:DAYLIGHT
END:VTIMEZONE
BEGIN:VEVENT
SUMMARY:Bingo Night
DESCRIPTION:All are welcome to a fun night of bingo\, food\, and prizes.
  Proceeds help send our kids &amp\; teens to summer camp!\n\n4 game card
 \, $10\n\n8 game card\, $20\n\n8 game card plus bonus round for golden t
 icket prize\, $30\n\n$5 hot dogs\, chips\, and a drink.\n\nLocated in th
 e gym.
URL;VALUE=URI:https://www.sobersoldierz.com/sobersoldierz/?sc_event=bing
 o-night
UID:urn:uuid:2238cfc3-01ec-4f78-9994-dbb249833331
STATUS:CONFIRMED
ORGANIZER:
DTSTAMP:20260419T130419Z
DTSTART;TZID=America/Chicago:20260522T180000
DTEND;TZID=America/Chicago:20260522T200000
LOCATION:2200 Beaver Avenue
END:VEVENT
END:VCALENDAR