BEGIN:VCALENDAR
METHOD:PUBLISH
VERSION:2.0
CALSCALE:GREGORIAN
PRODID:-//NONSGML WPForms//NONSGML Sugar Calendar Feeds v3.11.0//EN
X-WR-CALNAME:3 Powerful Women Testimonies
X-WR-CALDESC:Sober Soldierz
X-WR-TIMEZONE:America/Chicago
BEGIN:VTIMEZONE
TZID:America/Chicago
BEGIN:STANDARD
TZOFFSETFROM:-0500
TZOFFSETTO:-0600
DTSTART:20251102T070000
TZNAME:CST
END:STANDARD
END:VTIMEZONE
BEGIN:VTIMEZONE
TZID:America/Chicago
BEGIN:STANDARD
TZOFFSETFROM:-0500
TZOFFSETTO:-0600
DTSTART:20251102T070000
TZNAME:CST
END:STANDARD
END:VTIMEZONE
BEGIN:VEVENT
SUMMARY:3 Powerful Women Testimonies
DESCRIPTION:Come join us Tuesday November 25th 7pm for another 3-20 minu
 te testimony from 3 powerful women chasing after God and recovery at 313
  6th St. West Des Moines\, Iowa
URL;VALUE=URI:https://www.sobersoldierz.com/sobersoldierz/?sc_event=3-po
 werful-women-testimonies
UID:urn:uuid:0c5386ad-6b05-46fc-a43c-fdc65d040b54
STATUS:CONFIRMED
ORGANIZER:
DTSTAMP:20260423T112324Z
DTSTART;TZID=America/Chicago:20251125T190000
DTEND;TZID=America/Chicago:20251125T200000
LOCATION:313 6th St
END:VEVENT
END:VCALENDAR